{"text_format":"1","workbook":"xlsx","n_sheets":4,"sheets":["PastureRental","Stocking Rate","Stocker Cattle Budget","CowCalf Budget"],"not_rendered":{"charts":2,"images":0,"macros":1,"external_links":2,"defined_names":11,"comments":0,"pivot_tables":0},"unopened":[],"bounds":{"document_bytes":16777216,"sheet_cells":100000,"rows_first":2000,"rows_last":500,"rows_between":2000,"halvings":0,"cell_chars":16384,"cell_head_chars":4096},"cells_cut":0,"cells_raw":0,"read":"whole","date_system":"1900"}

{"sheet":"PastureRental","index":0,"n_rows":39,"n_cols":12,"rows_kept":39,"cut":false,"hidden":false,"merged":[[1,1,8,11],[34,15,34,16],[35,1,35,3],[11,1,12,11],[13,1,13,4],[14,1,15,11],[17,1,17,10],[30,1,31,11]]}
[]
[null,"Pasture Rental Rate Calculator"]
[]
[]
[]
[]
[]
[]
[]
[]
[null,"INTRODUCTION"]
[null,"This tool was developed to assist landowner and tenant in determining an equitable grazing lease by considering three levels of pasture productivity. All costs and services provided by each party are taken into consideration and pricing per acre, per head, per AUM, or per pound of gain are reported."]
[]
[null,"INSTRUCTIONS FOR THE USER:"]
[null,"Be sure to \"Enable Content\" and \"Enable Macros\" for the spreadsheet to function correctly.  Blue values are inputs that should be changed from the defaults to match your operation.  Black values are automatically calculated."]
[]
[]
[null,"The companion publication with full instructions and explanations can be found by clicking",null,null,null,null,null,null,null,null,null,"HERE"]
[]
[]
[]
[null,"FOR MORE INFORMATION:"]
[]
[null,"Levi A. Russell, PhD"]
[null,"Assistant Professor & Extension Livestock Economist"]
[null,"University of Georgia"]
[null,"lrussell@uga.edu"]
[null,"706-521-4029"]
[]
[]
[null,"Adapted from a spreadsheet developed by:"]
[]
[null,"Robin Reid",null,null,null,null,null,"Mykel Taylor Ph.D. "]
[null,"Extension Associate",null,null,null,null,null,"Assistant Professor"]
[null,"Kansas State University",null,null,null,null,null,"Kansas State University"]
[null,"robinreid@ksu.edu",null,null,null,null,null,"mtaylor@ksu.edu"]
[null,"785-532-0964",null,null,null,null,null,"785-532-3033"]
[]
[null,"Original spreadsheet can be found by clicking ",null,null,null,null,"HERE"]

{"sheet":"Stocking Rate","index":1,"n_rows":33,"n_cols":9,"rows_kept":33,"cut":false,"hidden":false,"merged":[[0,0,0,8],[9,0,9,1],[10,0,10,1],[11,0,11,1],[12,0,12,1],[10,7,10,8],[11,7,11,8],[12,7,13,8],[12,6,13,6],[28,5,28,8],[27,0,27,3],[27,5,27,7],[8,6,8,7],[13,0,13,1],[17,5,17,8]]}
["Calculating a Stocking Rate"]
[]
["Inputs"]
["Grazing Period Start","2017-10-16"]
["Grazing Period End","2018-03-15"]
["Grazing Days",{"$f":"B5-B4","v":150}]
["Total Acres of Pasture",160]
[]
[null,null,"Unfavorable Year","Normal Year","Favorable Year",null,"Assumptions:"]
["Pounds of Production per Acre",null,6000,9000,11000]
["Pounds of Grazed Forage per Acre",null,{"$f":"C10*$G$11","v":1500},{"$f":"D10*$G$11","v":2250},{"$f":"E10*$G$11","v":2750},null,0.25,"Harvest Efficiency"]
["AUM's available/Acre",null,{"$f":"C11/G12","v":1.6438356164383561},{"$f":"D11/G12","v":2.4657534246575343},{"$f":"E11/G12","v":3.0136986301369864},null,912.5,"Pounds per AUM"]
["Total AUM's for pasture",null,{"$f":"C12*$B$7","v":263.01369863013696},{"$f":"D12*$B$7","v":394.52054794520552},{"$f":"E12*$B$7","v":482.1917808219178},null,0.03,"Forage Consumed per Day (Percent of Body Weight)"]
["Consumed pounds of forage on pasture",null,{"$f":"C11*$B$7","v":240000},{"$f":"D11*$B$7","v":360000},440000]
[]
[]
[]
[null,null,"Forage Consumed per Day (lbs)","Total Forage For Grazing Period (lbs)",null,"Ideal Stocking Rate"]
["COW/CALF PAIRS",null,{"$f":"G13*(B20+AVERAGE(B21:B22))","v":49.5},{"$f":"C19*B6","v":7425},null,null,"Unfavorable Year","Normal Year","Favorable Year"]
["Mature Cow Weight",1250,null,null,null,"Number of Cow/Calf Pairs",{"$f":"IF(B27>0,(C14/($D$19+$D$23*(1/$B$27))),(C14/D19))","v":31.759643021612437},{"$f":"IF(B27>0,(D14/($D$19+$D$23*(1/$B$27))),(D14/D19))","v":47.639464532418657},{"$f":"IF(B27>0,(E14/($D$19+$D$23*(1/$B$27))),(E14/D19))","v":58.226012206289468}]
["Calf Starting Weight",250,null,null,null,"Number of Bulls",{"$f":"IF(B27>0,(C14/($D$19+$D$23*(1/$B$27)))*(1/$B$27),0)","v":1.2703857208644975},{"$f":"IF(B27>0,(D14/($D$19+$D$23*(1/$B$27)))*(1/$B$27),0)","v":1.9055785812967463},{"$f":"IF(B27>0,(E14/($D$19+$D$23*(1/$B$27)))*(1/$B$27),0)","v":2.3290404882515787}]
["Calf Ending Weight",550]
["BULLS",null,{"$f":"G13*B24","v":54},{"$f":"C23*(B26-B25)","v":3294},null,"Acres per Cow/Calf Pair & Proportion of Bull",{"$f":"IF($B$27>0,($B$7/(G20+(1/$B$27)*G21)),$B$7/G20)","v":5.0297923322683706},{"$f":"IF($B$27>0,($B$7/(H20+(1/$B$27)*H21)),$B$7/H20)","v":3.3531948881789133},2.743523090328202]
["Average Weight",1800]
["Date In","2017-06-01"]
["Date Out","2017-08-01"]
["# of Cows per Bull",25]
["OR",null,null,null,null,"OR"]
[null,null,"Forage Consumed per Day (lbs)","Total Forage For Grazing Period (lbs)",null,"Ideal Stocking Rate"]
["STOCKER CATTLE",null,{"$f":"(((B32+B31)/2)*G13)","v":19.5},{"$f":"C30*B6","v":2925},null,"Stocker Cattle",{"$f":"C14/$D$30","v":82.051282051282058},{"$f":"D14/$D$30","v":123.07692307692308},{"$f":"E14/$D$30","v":150.42735042735043}]
["Starting Weight",500]
["Ending Weight",800,null,null,null,"Acres per Stocker ",{"$f":"$B$7/G30","v":1.9499999999999997},{"$f":"$B$7/H30","v":1.3},{"$f":"$B$7/I30","v":1.0636363636363635}]
["Average Daily Gain",{"$f":"(B32-B31)/B6","v":2}]

{"sheet":"Stocker Cattle Budget","index":2,"n_rows":100,"n_cols":15,"rows_kept":100,"cut":false,"hidden":false,"merged":[[10,3,10,4],[47,0,47,8],[79,6,79,10],[85,7,85,10],[95,7,95,10],[55,7,55,10],[0,0,0,8],[7,9,8,9],[79,0,79,1],[2,7,2,9],[1,14,1,15],[4,9,5,9],[8,3,8,4],[9,3,9,4],[76,0,76,8],[2,0,2,4],[65,7,65,10],[13,11,13,12],[31,7,32,7],[31,8,32,8],[49,6,49,10],[49,0,49,4]]}
["Budgeting for Stocker Cattle Grazing-Inputs",null,null,null,null,null,null,null,null,null,null,null,null,null,"Internal Notes:"]
[]
["Inputs from Stocking Rate Page",null,null,null,null,null,null,"Expected Cattle Returns"]
["Grazing Period Start",{"$f":"'Stocking Rate'!B4","v":"2017-10-16"},null,null,null,null,null,null,null,"Per Head"]
["Grazing Period End",{"$f":"'Stocking Rate'!B5","v":"2018-03-15"},null,null,null,null,null,"Beginning Weight (lbs)",{"$f":"'Stocking Rate'!B31","v":500},{"$f":"-I5/100*I6","v":-675}]
["Grazing Days",{"$f":"B5-B4","v":150},null,null,null,null,null,"Beginning Cost ($/cwt)",135]
["Total Acres of Pasture",{"$f":"'Stocking Rate'!B7","v":160},null,null,null,null,null,"Death Loss",0.01,{"$f":"J5*I7","v":-6.75}]
[null,null,null,null,null,null,null,"Ending Weight (lbs)",{"$f":"'Stocking Rate'!B32","v":800},{"$f":"I8/100*I9","v":920}]
["Growing Season","Unfavorable","Normal","Favorable",null,null,null,"Expected Ending Price ($/cwt)",115]
["# of head",{"$f":"ROUND('Stocking Rate'!G30,0)","v":82},{"$f":"ROUND('Stocking Rate'!H30,0)","v":123},{"$f":"ROUND('Stocking Rate'!I30,0)","v":150}]
["Acres per Head",{"$f":"B7/B10","v":1.9512195121951219},{"$f":"B7/C10","v":1.3008130081300813},{"$f":"B7/D10","v":1.0666666666666667},null,null,null,"Gross Income per head",null,{"$f":"SUM(J5:J9)","v":238.25}]
[]
["Livestock Costs"]
[null,null,null,null,null,null,null,null,"Total for Herd",null,null,"Cost Paid by"]
["Category:",null,null,null,null,null,null,"$/head","Unfavorable","Normal","Favorable","Producer %","Landowner %"]
["Harvested Forage",0,"per ton","x",0,"total lbs"," =",{"$f":"(B16/2000)*E16","v":0},{"$f":"H16*B10","v":0},{"$f":"H16*C10","v":0},{"$f":"H16*D10","v":0},1,{"$f":"1-L16","v":0}]
["Grain/Protein Supplements",150,"per ton","x",1200,"total lbs"," =",{"$f":"(B17/2000)*E17","v":90},{"$f":"$H$17*B10","v":7380},{"$f":"$H$17*C10","v":11070},{"$f":"$H$17*D10","v":13500},1,{"$f":"1-L17","v":0}]
["Mineral",550,"per ton","x",{"$f":"0.25*B6","v":37.5},"total lbs"," =",{"$f":"(B18/2000)*E18","v":10.3125},{"$f":"$H$18*B10","v":845.625},{"$f":"$H$18*C10","v":1268.4375},{"$f":"$H$18*D10","v":1546.875},1,0]
["Labor (towards cattle)",20,"per hour","x",1.2,"hours"," =",{"$f":"B19*E19","v":24},{"$f":"J19-(0.5*(J19-(H19*B10)))","v":2460},{"$f":"$H$19*C10","v":2952},{"$f":"J19+(0.5*((H19*D10)-J19))","v":3276},1,0]
["Vet Medicine/Drugs",null,null,null,null,null,null,6,{"$f":"$H$20*B10","v":492},{"$f":"$H$20*C10","v":738},{"$f":"$H$20*D10","v":900},1,0]
["Marketing",null,null,null,null,null,null,25,{"$f":"$H$21*B10","v":2050},{"$f":"$H$21*C10","v":3075},{"$f":"$H$21*D10","v":3750},1,0]
["Utilities,Gas, Fuel, Oil",null,null,null,null,null,null,5,{"$f":"J22-(0.5*(J22-(H22*B10)))","v":512.5},{"$f":"$H$22*C10","v":615},{"$f":"J22+(0.5*((H22*D10)-J22))","v":682.5},1,0]
["Machinery charge",null,null,null,null,null,null,8,{"$f":"J23-(0.5*(J23-(H23*B10)))","v":820},{"$f":"$H$23*C10","v":984},{"$f":"J23+(0.5*((H23*D10)-J23))","v":1092},1,0]
["Cash Interest on Cattle Investment",{"$f":"-J5","v":675},"purchased cost","x",0.05,"operating interest",null,{"$f":"B24*E24*(B6/365)","v":13.869863013698629},{"$f":"$H$24*B10","v":1137.3287671232874},{"$f":"$H$24*C10","v":1705.9931506849314},{"$f":"$H$24*D10","v":2080.4794520547944},1,0]
["Miscellaneous",null,null,null,null,null,null,2,{"$f":"$H$25*B10","v":164},{"$f":"$H$25*C10","v":246},{"$f":"$H$25*D10","v":300},1,0]
["Fixed Overhead","Total dollars",null,null,null,null,null,"--",{"$f":"SUM(B27:B29)","v":260},{"$f":"SUM(B27:B29)","v":260},{"$f":"SUM(B27:B29)","v":260},1,0]
["Taxes",30,null,null,null,null,null,"Total Costs",{"$f":"SUM(I16:I26)","v":16121.453767123287},{"$f":"SUM(J16:J26)","v":22914.430650684932},{"$f":"SUM(K16:K26)","v":27387.854452054795}]
["Insurance",30,null,null,null,null,null,"Per Head",{"$f":"I27/B10","v":196.60309472101568},{"$f":"J27/C10","v":186.29618415191001},{"$f":"K27/D10","v":182.58569634703196}]
["Depreciation",200,null,null,null,null,null,"Per Head plus beg. Value",{"$f":"I28+-$J$5","v":871.60309472101562},{"$f":"J28+-$J$5","v":861.29618415190998},857.5856963470319]
[]
["Land Costs"]
[null,null,null,null,null,null,null,"$/acre","Total for Pasture","Cost Paid by"]
["Category:",null,null,null,null,null,null,null,null,"Producer %","Landowner %"]
["Water Source Maintenance",null,null,null,null,null,null,0.89,{"$f":"H34*$B$7","v":142.4},0,{"$f":"1-J34","v":1}]
["Spraying Weeds",null,null,null,null,null,null,3.55,{"$f":"H35*$B$7","v":568},1,0]
["Fertilizer",null,null,null,null,null,null,0,0,1,0]
["Burning Pasture",null,null,null,null,null,null,0.56000000000000005,{"$f":"H37*$B$7","v":89.600000000000009},1,0]
["Maintaining Fence",null,null,null,null,null,null,2.84,{"$f":"H38*$B$7","v":454.4},1,0]
["New Fence Construction",null,null,null,null,null,null,2,{"$f":"H39*$B$7","v":320},0,1]
["Corrals",null,null,null,null,null,null,0.45,{"$f":"H40*$B$7","v":72},1,0]
["Other land costs",null,null,null,null,null,null,0,{"$f":"H41*$B$7","v":0},1,0]
["  Total Costs",null,null,null,null,null,null,{"$f":"SUM(H34:H41)","v":10.29},{"$f":"SUM(I34:I41)","v":1646.4}]
[]
["Interest on Land",1500,"Land Value per acre",null,0.01,"rent/value ratio","=",{"$f":"B44*E44","v":15},{"$f":"H44*B7","v":2400}]
[]
[]
[]
["Budgeting for Stocker Cattle Grazing -Results"]
[]
["Graphical Depiction of Rental Rates",null,null,null,null,null,"Budgeting a Rental Rate-Stocker Cattle"]
[null,null,null,null,null,null,null,null,"Unfavorable","Normal","Favorable"]
[null,null,null,null,null,null,"Producers Share of Cost",null,{"$f":"SUMPRODUCT(I16:I26,$L$16:$L$26)+SUMPRODUCT($I$34:$I$41,$J$34:$J$41)","v":17305.453767123287},{"$f":"SUMPRODUCT(J16:J26,$L$16:$L$26)+SUMPRODUCT($I$34:$I$41,$J$34:$J$41)","v":24098.430650684932},{"$f":"SUMPRODUCT(K16:K26,$L$16:$L$26)+SUMPRODUCT($I$34:$I$41,$J$34:$J$41)","v":28571.854452054795}]
[null,null,null,null,null,null,"Gross Income",null,{"$f":"J11*B10","v":19536.5},{"$f":"J11*C10","v":29304.75},{"$f":"J11*D10","v":35737.5}]
[null,null,null,null,null,null,"Return over Producer Cost",null,{"$f":"I53-I52","v":2231.0462328767135},{"$f":"J53-J52","v":5206.3193493150684},{"$f":"K53-K52","v":7165.6455479452052}]
[]
[null,null,null,null,null,null,null,"Amount Producer Could Afford to Pay"]
[null,null,null,null,null,null,null,"Rent per Acre",{"$f":"I54/$B$7","v":13.94403895547946},{"$f":"J54/$B$7","v":32.539495933219179},{"$f":"K54/$B$7","v":44.785284674657532}]
[null,null,null,null,null,null,null,"Rent per Head",{"$f":"I54/B10","v":27.207880888740409},{"$f":"J54/C10","v":42.327799587927387},{"$f":"K54/D10","v":47.770970319634699}]
[null,null,null,null,null,null,null,"Rent per Pound of Gain",{"$f":"I54/(($I$8-$I$5)*B10)","v":9.0692936295801357E-2},{"$f":"J54/(($I$8-$I$5)*C10)","v":0.14109266529309128},{"$f":"K54/(($I$8-$I$5)*D10)","v":0.15923656773211567}]
[null,null,null,null,null,null,null,"Rent per AUM",{"$f":"I54/'Stocking Rate'!C13","v":8.4826236979166723},{"$f":"J54/'Stocking Rate'!D13","v":13.196573350694443},{"$f":"K54/'Stocking Rate'!E13","v":14.860571732954545}]
[]
[null,null,null,null,null,null,"Landowner Share of Cost",null,{"$f":"SUMPRODUCT(I16:I26,$M$16:$M$26)+SUMPRODUCT($I$34:$I$41,$K$34:$K$41)+$I$44","v":2862.4},{"$f":"SUMPRODUCT(J16:J26,$M$16:$M$26)+SUMPRODUCT($I$34:$I$41,$K$34:$K$41)+$I$44","v":2862.4},{"$f":"SUMPRODUCT(K16:K26,$M$16:$M$26)+SUMPRODUCT($I$34:$I$41,$K$34:$K$41)+$I$44","v":2862.4}]
[null,null,null,null,null,null,"Gross Income",null,{"$f":"I53","v":19536.5},{"$f":"J53","v":29304.75},35737.5]
[null,null,null,null,null,null,"Return over Landowner Cost",null,{"$f":"I63-I62","v":16674.099999999999},{"$f":"J63-J62","v":26442.35},32875.1]
[]
[null,null,null,null,null,null,null,"Landowner Cost"]
[null,null,null,null,null,null,null,"Rent per Acre",{"$f":"I62/$B$7","v":17.89},{"$f":"J62/$B$7","v":17.89},17.89]
[null,null,null,null,null,null,null,"Rent per Head",{"$f":"I62/B10","v":34.907317073170731},{"$f":"J62/C10","v":23.271544715447156},{"$f":"K62/D10","v":19.082666666666668}]
[null,null,null,null,null,null,null,"Rent per Pound of Gain",{"$f":"I62/(($I$8-$I$5)*B10)","v":0.11635772357723577},{"$f":"J62/(($I$8-$I$5)*C10)","v":7.7571815718157189E-2},{"$f":"K62/(($I$8-$I$5)*D10)","v":6.3608888888888895E-2}]
[null,null,null,null,null,null,null,"Rent per AUM",{"$f":"I62/'Stocking Rate'!C13","v":10.883083333333335},{"$f":"J62/'Stocking Rate'!D13","v":7.2553888888888887},{"$f":"K62/'Stocking Rate'!E13","v":5.9362272727272734}]
[]
[]
[]
[]
[]
[]
["Budgeting for Stocker Cattle Grazing -Production Risk"]
[]
[]
["Production Variables",null,null,null,null,null,"Stocker Cattle Production Risk"]
["Death Loss","Normal",{"$f":"IF(B81=\"Normal\", I7, IF(B81=\"1% lower\", (MAX(I7-0.01,0)),IF(B81=\"5% lower\", (MAX(I7-0.05,0)),IF(B81=\"1% higher\", (I7+0.01),IF(B81=\"5% higher\", (I7+0.05),0)))))","v":0.01},null,null,null,null,null,"Unfavorable","Normal","Favorable"]
["Stocker Ending Weight","1% higher",{"$f":"IF(B82=\"Normal\",I8,IF(B82=\"1% lower\",(I8*0.99),IF(B82=\"5% lower\",(I8*0.95),IF(B82=\"1% higher\",(I8*1.01),IF(B82=\"5% higher\",(I8*1.05),FALSE)))))","v":808},null,null,null,"Producers Share of Cost",null,{"$f":"SUMPRODUCT(I16:I26,$L$16:$L$26)+SUMPRODUCT($I$34:$I$41,$J$34:$J$41)","v":17305.453767123287},{"$f":"SUMPRODUCT(J16:J26,$L$16:$L$26)+SUMPRODUCT($I$34:$I$41,$J$34:$J$41)","v":24098.430650684932},28571.854452054795]
["Stocker Selling Price","5% lower",{"$f":"IF(B83=\"Normal\",I9,IF(B83=\"1% lower\",(I9*0.99),IF(B83=\"5% lower\",(I9*0.95),IF(B83=\"1% higher\",(I9*1.01),IF(B83=\"5% higher\",(I9*1.05),FALSE)))))","v":109.25},null,null,null,"Gross Income",null,{"$f":"($J$5+($C$81*$J$5)+($C$82*$C$83/100))*B10","v":16481.18},{"$f":"($J$5+($C$81*$J$5)+($C$82*$C$83/100))*C10","v":24721.77},30148.5]
[null,null,null,null,null,null,"Return over Producer Cost",null,{"$f":"I83-I82","v":-824.27376712328623},{"$f":"J83-J82","v":623.33934931506883},{"$f":"K83-K82","v":1576.6455479452052}]
[]
[null,null,null,null,null,null,null,"Amount Producer Could Afford to Pay"]
[null,null,null,null,null,null,null,"Rent per Acre",{"$f":"I84/$B$7","v":-5.151711044520539},{"$f":"J84/$B$7","v":3.8958709332191801},{"$f":"K84/$B$7","v":9.854034674657532}]
[null,null,null,null,null,null,null,"Rent per Head",{"$f":"I84/B10","v":-10.052119111259588},{"$f":"J84/C10","v":5.0677995879273885},10.510970319634701]
[null,null,null,null,null,null,null,"Rent per Pound of Gain",{"$f":"I84/(($I$8-$I$5)*B10)","v":-3.3507063704198627E-2},{"$f":"J84/(($I$8-$I$5)*C10)","v":1.6892665293091295E-2},3.5036567732115671E-2]
[null,null,null,null,null,null,null,"Rent per AUM",{"$f":"I84/'Stocking Rate'!C30","v":-42.270449596065959},{"$f":"J84/'Stocking Rate'!D13","v":1.5799921006944451},{"$f":"K84/'Stocking Rate'!E13","v":3.2697478693181812}]
[]
[null,null,null,null,null,null,"Landowner Share of Cost",null,{"$f":"SUMPRODUCT(I16:I26,$M$16:$M$26)+SUMPRODUCT($I$34:$I$41,$K$34:$K$41)+$I$44","v":2862.4},{"$f":"SUMPRODUCT(J16:J26,$M$16:$M$26)+SUMPRODUCT($I$34:$I$41,$K$34:$K$41)+$I$44","v":2862.4},{"$f":"SUMPRODUCT(K16:K26,$M$16:$M$26)+SUMPRODUCT($I$34:$I$41,$K$34:$K$41)+$I$44","v":2862.4}]
[null,null,null,null,null,null,"Gross Income",null,{"$f":"I83","v":16481.18},{"$f":"J83","v":24721.77},30148.5]
[null,null,null,null,null,null,"Return over Landowner Cost",null,{"$f":"I93-I92","v":13618.78},{"$f":"J93-J92","v":21859.37},27286.1]
[]
[null,null,null,null,null,null,null,"Landowner Cost"]
[null,null,null,null,null,null,null,"Rent per Acre",{"$f":"I92/$B$7","v":17.89},{"$f":"J92/$B$7","v":17.89},17.89]
[null,null,null,null,null,null,null,"Rent per Head",{"$f":"I92/B10","v":34.907317073170731},{"$f":"J92/C10","v":23.271544715447156},{"$f":"K92/D10","v":19.082666666666668}]
[null,null,null,null,null,null,null,"Rent per Pound of Gain",{"$f":"I92/(($I$8-$I$5)*B10)","v":0.11635772357723577},{"$f":"J92/(($I$8-$I$5)*C10)","v":7.7571815718157189E-2},6.3608888888888895E-2]
[null,null,null,null,null,null,null,"Rent per AUM",{"$f":"I92/'Stocking Rate'!C13","v":10.883083333333335},{"$f":"J92/'Stocking Rate'!D13","v":7.2553888888888887},{"$f":"K92/'Stocking Rate'!E13","v":5.9362272727272734}]

{"sheet":"CowCalf Budget","index":3,"n_rows":75,"n_cols":15,"rows_kept":75,"cut":false,"hidden":false,"merged":[[1,12,1,13],[2,0,2,4],[2,7,2,9],[44,7,44,10],[7,9,8,9],[13,7,14,7],[13,8,14,8],[29,6,29,10],[62,7,62,10],[71,7,71,10],[0,0,0,8],[8,3,8,4],[9,3,9,4],[10,3,10,4],[56,0,56,1],[27,0,27,8],[29,0,29,4],[53,0,53,8],[56,6,56,10],[35,7,35,10]]}
["Budgeting for Cow/Calf Grazing- Inputs",null,null,null,null,null,null,null,null,null,null,null,"Internal Notes:"]
[]
["Inputs from Stocking Rate Page",null,null,null,null,null,null,"Expected Cattle Returns"]
["Grazing Period Start",{"$f":"'Stocking Rate'!B4","v":"2017-10-16"},null,null,null,null,null,null,null,"Per Head"]
["Grazing Period End",{"$f":"'Stocking Rate'!B5","v":"2018-03-15"},null,null,null,null,null,"Cow Yearly Cost (w/o pasture)",null,500,null,null,"Cow/Calf Livestock Budget"]
["Grazing Days",{"$f":"B5-B4","v":150},null,null,null,null,null,null,null,null,null,null,"$1,123.36 total cost +226 cull cow income + 158.8 pasture cost (leave heifer cost in)="]
["Total Acres of Pasture",{"$f":"'Stocking Rate'!B7","v":160},null,null,null,null,null,"Weaning Percentage",0.89,null,null,null,{"$f":"-1123.36+226+158.8","v":-738.56}]
[null,null,null,null,null,null,null,"Ending Weight (lbs)",{"$f":"'Stocking Rate'!B22","v":550},{"$f":"I8/100*I9*I7","v":660.82500000000005},null,null,"Pasture cost w/o taking heifer out 180.6/(1400+.16*750+.04*1800)"]
["Growing Season","Unfavorable","Normal","Favorable",null,null,null,"Expected Ending Price ($/cwt)",135,null,null,null,{"$f":"180.6/(1400+0.16*750+0.04*1800)","v":0.11344221105527638},"per pound"]
["# of head",{"$f":"ROUND('Stocking Rate'!G20,0)","v":32},{"$f":"ROUND('Stocking Rate'!H20,0)","v":48},{"$f":"ROUND('Stocking Rate'!I20,0)","v":58},null,null,null,null,null,null,null,null,{"$f":"M9*1400","v":158.81909547738692}]
["Acres per Head",{"$f":"B7/B10","v":5},{"$f":"B7/C10","v":3.3333333333333335},{"$f":"B7/D10","v":2.7586206896551726},null,null,null,"Gross Income per head",null,{"$f":"J8-J5","v":160.82500000000005}]
[]
["Land Costs"]
[null,null,null,null,null,null,null,"$/acre","Total for Pasture","Cost Paid by"]
["Category:",null,null,null,null,null,null,null,null,"Producer %","Landowner %"]
["Water Source Maintenance",null,null,null,null,null,null,0.89,{"$f":"H16*$B$7","v":142.4},0,{"$f":"1-J16","v":1}]
["Spraying Weeds",null,null,null,null,null,null,3.55,{"$f":"H17*$B$7","v":568},1,0]
["Fertilizer",null,null,null,null,null,null,0,0,1,0]
["Burning Pasture",null,null,null,null,null,null,0.56000000000000005,{"$f":"H19*$B$7","v":89.600000000000009},1,0]
["Maintaining Fence",null,null,null,null,null,null,1.47,{"$f":"H20*$B$7","v":235.2},1,0]
["New Fence Construction",null,null,null,null,null,null,2,{"$f":"H21*$B$7","v":320},0,1]
["Corrals",null,null,null,null,null,null,0.45,{"$f":"H22*$B$7","v":72},1,0]
["Other land costs",null,null,null,null,null,null,0,{"$f":"H23*$B$7","v":0},1,0]
["  Total Costs",null,null,null,null,null,null,{"$f":"SUM(H16:H23)","v":8.9199999999999982},{"$f":"SUM(I16:I23)","v":1427.2}]
[]
["Interest on Land",1500,"Land Value per acre",null,0.01,"rent/value ratio","=",{"$f":"B26*E26","v":15},{"$f":"H26*B7","v":2400}]
[]
["Budgeting for Cow/Calf Grazing -Results"]
[]
["Graphical Depiction of Rental Rates",null,null,null,null,null,"Budgeting a Rental Rate-Cow/Calf Pairs",null,null,null,null,null,null,null,"15% lower"]
[null,null,null,null,null,null,null,null,"Unfavorable","Normal","Favorable",null,null,null,"10% lower"]
[null,null,null,null,null,null,"Producers Share of Cost",null,{"$f":"SUMPRODUCT($I$16:$I$23,$J$16:$J$23)","v":964.8},{"$f":"SUMPRODUCT($I$16:$I$23,$J$16:$J$23)","v":964.8},{"$f":"SUMPRODUCT($I$16:$I$23,$J$16:$J$23)","v":964.8},null,null,null,"5% lower"]
[null,null,null,null,null,null,"Gross Income",null,{"$f":"J11*B10","v":5146.4000000000015},{"$f":"J11*C10","v":7719.6000000000022},{"$f":"J11*D10","v":9327.8500000000022},null,null,null,"Normal"]
[null,null,null,null,null,null,"Return over Producer Cost",null,{"$f":"I33-I32","v":4181.6000000000013},{"$f":"J33-J32","v":6754.800000000002},{"$f":"K33-K32","v":8363.0500000000029},null,null,null,"5% higher"]
[null,null,null,null,null,null,null,null,null,null,null,null,null,null,"10% higher"]
[null,null,null,null,null,null,null,"Amount Producer Could Afford to Pay",null,null,null,null,null,null,"15% higher"]
[null,null,null,null,null,null,null,"Rent per Acre",{"$f":"I34/$B$7","v":26.135000000000009},{"$f":"J34/$B$7","v":42.217500000000015},{"$f":"K34/$B$7","v":52.269062500000018}]
[null,null,null,null,null,null,null,"Rent per Pair",{"$f":"I34/B10","v":130.67500000000004},{"$f":"J34/C10","v":140.72500000000005},{"$f":"K34/D10","v":144.19051724137935},null,null,null,"5% lower"]
[null,null,null,null,null,null,null,"Rent per AUM",{"$f":"I34/'Stocking Rate'!C13","v":15.898791666666673},{"$f":"J34/'Stocking Rate'!D13","v":17.121541666666669},{"$f":"K34/'Stocking Rate'!E13","v":17.343825284090915},null,null,null,"1% lower"]
[null,null,null,null,null,null,null,null,null,null,null,null,null,null,"Normal"]
[null,null,null,null,null,null,"Landowner Share of Cost",null,{"$f":"SUMPRODUCT($I$16:$I$23,$K$16:$K$23)+$I$26","v":2862.4},{"$f":"SUMPRODUCT($I$16:$I$23,$K$16:$K$23)+$I$26","v":2862.4},{"$f":"SUMPRODUCT($I$16:$I$23,$K$16:$K$23)+$I$26","v":2862.4},null,null,null,"1% higher"]
[null,null,null,null,null,null,"Gross Income",null,{"$f":"I33","v":5146.4000000000015},{"$f":"J33","v":7719.6000000000022},{"$f":"K33","v":9327.8500000000022},null,null,null,"5% higher"]
[null,null,null,null,null,null,"Return over Landowner Cost",null,{"$f":"I42-I41","v":2284.0000000000014},{"$f":"J42-J41","v":4857.2000000000025},6465.4500000000025]
[]
[null,null,null,null,null,null,null,"Landowner Cost"]
[null,null,null,null,null,null,null,"Rent per Acre",{"$f":"I41/$B$7","v":17.89},{"$f":"J41/$B$7","v":17.89},17.89]
[null,null,null,null,null,null,null,"Rent per Pair",{"$f":"I41/B10","v":89.45},{"$f":"J41/C10","v":59.633333333333333},{"$f":"K41/D10","v":49.351724137931036}]
[null,null,null,null,null,null,null,"Rent per AUM",{"$f":"I41/'Stocking Rate'!C13","v":10.883083333333335},{"$f":"J41/'Stocking Rate'!D13","v":7.2553888888888887},{"$f":"K41/'Stocking Rate'!E13","v":5.9362272727272734}]
[]
[]
[]
[]
[]
["Budgeting for Cow/Calf Grazing -Production Risk"]
[]
[]
["Production Variables",null,null,null,null,null,"Table 4: Budgeting a Rental Rate"]
["Weaning Percentage","5% lower",{"$f":"IF(B58=\"Normal\", I7, IF(B58=\"1% lower\", (I7-0.01),IF(B58=\"5% lower\", (I7-0.05),IF(B58=\"1% higher\", (I7+0.01),IF(B58=\"5% higher\", (I7+0.05),0)))))","v":0.84},null,null,null,null,null,"Unfavorable","Normal","Favorable"]
["Selling Calf Weight","5% higher",{"$f":"IF(B59=\"Normal\",I8,IF(B59=\"1% lower\",(I8*0.99),IF(B59=\"5% lower\",(I8*0.95),IF(B59=\"1% higher\",(I8*1.01),IF(B59=\"5% higher\",(I8*1.05),FALSE)))))","v":577.5},null,null,null,"Producers Share of Cost",null,{"$f":"SUMPRODUCT($I$16:$I$23,$J$16:$J$23)","v":964.8},{"$f":"SUMPRODUCT($I$16:$I$23,$J$16:$J$23)","v":964.8},{"$f":"SUMPRODUCT($I$16:$I$23,$J$16:$J$23)","v":964.8}]
["Selling Calf Price","5% higher",{"$f":"IF(B60=\"Normal\",I9,IF(B60=\"1% lower\",(I9*0.99),IF(B60=\"5% lower\",(I9*0.95),IF(B60=\"1% higher\",(I9*1.01),IF(B60=\"5% higher\",(I9*1.05),FALSE)))))","v":141.75},null,null,null,"Gross Income",null,{"$f":"(($C$58*$C$59*$C$60/100)-$C$61)*B10","v":6004.135999999995},{"$f":"(($C$58*$C$59*$C$60/100)-$C$61)*C10","v":9006.2039999999924},10882.49649999999]
["Yearly Cow Cost","Normal",{"$f":"IF(B61=\"Normal\",J5,IF(B61=\"1% lower\",(J5*0.99),IF(B61=\"5% lower\",(J5*0.95),IF(B61=\"1% higher\",(J5*1.01),IF(B61=\"5% higher\",(J5*1.05),FALSE)))))","v":500},null,null,null,"Return over Producer Cost",null,{"$f":"I60-I59","v":5039.3359999999948},{"$f":"J60-J59","v":8041.4039999999923},{"$f":"K60-K59","v":9917.6964999999909}]
[]
[null,null,null,null,null,null,null,"Amount Producer Could Afford to Pay"]
[null,null,null,null,null,null,null,"Rent per Acre",{"$f":"I61/$B$7","v":31.495849999999969},{"$f":"J61/$B$7","v":50.25877499999995},{"$f":"K61/$B$7","v":61.98560312499994}]
[null,null,null,null,null,null,null,"Rent per Pair",{"$f":"I61/B10","v":157.47924999999984},{"$f":"J61/C10","v":167.52924999999985},170.99476724137915]
[null,null,null,null,null,null,null,"Rent per AUM",{"$f":"I61/'Stocking Rate'!C13","v":19.159975416666647},{"$f":"J61/'Stocking Rate'!D13","v":20.382725416666645},{"$f":"K61/'Stocking Rate'!E13","v":20.567950127840891}]
[]
[null,null,null,null,null,null,"Landowner Share of Cost",null,{"$f":"SUMPRODUCT($I$16:$I$23,$K$16:$K$23)+$I$26","v":2862.4},{"$f":"SUMPRODUCT($I$16:$I$23,$K$16:$K$23)+$I$26","v":2862.4},{"$f":"SUMPRODUCT($I$16:$I$23,$K$16:$K$23)+$I$26","v":2862.4}]
[null,null,null,null,null,null,"Gross Income",null,{"$f":"I60","v":6004.135999999995},{"$f":"J60","v":9006.2039999999924},{"$f":"K60","v":10882.49649999999}]
[null,null,null,null,null,null,"Return over Landowner Cost",null,{"$f":"I69-I68","v":3141.7359999999949},{"$f":"J69-J68","v":6143.8039999999928},8020.0964999999906]
[]
[null,null,null,null,null,null,null,"Landowner Cost"]
[null,null,null,null,null,null,null,"Rent per Acre",{"$f":"I68/$B$7","v":17.89},{"$f":"J68/$B$7","v":17.89},17.89]
[null,null,null,null,null,null,null,"Rent per Pair",{"$f":"I68/B10","v":89.45},{"$f":"J68/C10","v":59.633333333333333},49.351724137931036]
[null,null,null,null,null,null,null,"Rent per AUM",{"$f":"I68/'Stocking Rate'!C13","v":10.883083333333335},{"$f":"J68/'Stocking Rate'!D13","v":7.2553888888888887},{"$f":"K68/'Stocking Rate'!E13","v":5.9362272727272734}]